BEGIN:VCALENDAR
VERSION:2.0
PRODID:-//Rancho Resort - ECPv6.15.20//NONSGML v1.0//EN
CALSCALE:GREGORIAN
METHOD:PUBLISH
X-WR-CALNAME:Rancho Resort
X-ORIGINAL-URL:https://rancho-resort.com
X-WR-CALDESC:Events for Rancho Resort
REFRESH-INTERVAL;VALUE=DURATION:PT1H
X-Robots-Tag:noindex
X-PUBLISHED-TTL:PT1H
BEGIN:VTIMEZONE
TZID:America/Phoenix
BEGIN:STANDARD
TZOFFSETFROM:-0700
TZOFFSETTO:-0700
TZNAME:MST
DTSTART:20230101T000000
END:STANDARD
END:VTIMEZONE
BEGIN:VEVENT
DTSTART;TZID=America/Phoenix:20241102T090000
DTEND;TZID=America/Phoenix:20241102T140000
DTSTAMP:20260420T023018
CREATED:20240925T214128Z
LAST-MODIFIED:20240925T214256Z
UID:10000070-1730538000-1730556000@rancho-resort.com
SUMMARY:Craft Fair
DESCRIPTION:Craft Fair\nSaturday\, November 2nd | 9:00 a.m. – 2:00 p.m. | Ballroom\nRancho Resort’s Annual Arts & Craft Fair has arrived. Come start your holiday shopping with the many vendors that will be here. There will be Rancho Resort vendors as well as outside vendors ready to sell their goods from jewelry to fabrics to quilts\, art\, hand-bags and much more. You won’t want to miss this! We will have Jackie’s Food Court on-site with food for sale for the duration of the event.
URL:https://rancho-resort.com/event/craft-fair/
LOCATION:Ballroom\, AZ
END:VEVENT
END:VCALENDAR