BEGIN:VCALENDAR
VERSION:2.0
PRODID:-//Rancho Resort - ECPv6.15.20//NONSGML v1.0//EN
CALSCALE:GREGORIAN
METHOD:PUBLISH
X-WR-CALNAME:Rancho Resort
X-ORIGINAL-URL:https://rancho-resort.com
X-WR-CALDESC:Events for Rancho Resort
REFRESH-INTERVAL;VALUE=DURATION:PT1H
X-Robots-Tag:noindex
X-PUBLISHED-TTL:PT1H
BEGIN:VTIMEZONE
TZID:America/Phoenix
BEGIN:STANDARD
TZOFFSETFROM:-0700
TZOFFSETTO:-0700
TZNAME:MST
DTSTART:20230101T000000
END:STANDARD
END:VTIMEZONE
BEGIN:VEVENT
DTSTART;TZID=America/Phoenix:20241005T160000
DTEND;TZID=America/Phoenix:20241005T200000
DTSTAMP:20260419T234454
CREATED:20240925T215500Z
LAST-MODIFIED:20240925T215500Z
UID:10000072-1728144000-1728158400@rancho-resort.com
SUMMARY:Weenie Roast & Dance
DESCRIPTION:Weenie Roast & Dance\nSaturday\, October 5th | 4:00 – 8:00 p.m. | Greens\nThe World has gone plaid! The hotdogs\, buns\, “fixings” for the hotdogs\, chips\, soda\, water and tableware will be provided. Please bring a potluck dish to share\, a chair and a flashlight for walking after dark. Anyone interested in showcasing your cooking skills in making chili or cornbread? Today’s the day! “Throwback” will be playing live for your evening enjoyment. The cost is $8 per person and the sign-up deadline is Wednesday\, October 2nd by noon. No entries will be accepted past deadline.
URL:https://rancho-resort.com/event/weenie-roast-dance/
LOCATION:The Greens
END:VEVENT
BEGIN:VEVENT
DTSTART;TZID=America/Phoenix:20241024T100000
DTEND;TZID=America/Phoenix:20241024T140000
DTSTAMP:20260419T234454
CREATED:20240315T194036Z
LAST-MODIFIED:20241022T193704Z
UID:10000036-1729764000-1729778400@rancho-resort.com
SUMMARY:New Image Fashions - CANCELED
DESCRIPTION:New Image Fashions – CANCELED \nThursday\, October 24th| 10:00 a.m. – 2:00 p.m.\nThis is truly a shopper’s delight! New Image Fashions\, formerly known as the trunk show\, comes to the Rancho Resort Clubhouse twice a year with an abundance of clothing and accessories to purchase. You can also bring your watches for battery replacement at a low cost. There will be clothes and jewelry for women at a reasonable price. This is the place to be!
URL:https://rancho-resort.com/event/don-scott-trunk-show/
LOCATION:Ballroom\, AZ
END:VEVENT
BEGIN:VEVENT
DTSTART;TZID=America/Phoenix:20241031T180000
DTEND;TZID=America/Phoenix:20241031T210000
DTSTAMP:20260419T234454
CREATED:20240925T214607Z
LAST-MODIFIED:20240925T214607Z
UID:10000071-1730397600-1730408400@rancho-resort.com
SUMMARY:Halloween Dance
DESCRIPTION:Halloween Dance\nThursday\, October 31st | 6:00 – 9:00 p.m. | Ballroom\nThere is magic in the night when the pumpkins glow by moonlight. Join us for an evening of fun and laughter with the “Tucson Retro Rockets” band. If you wish to reserve a table for 8\, all requests and money must be submitted together. The cost is $8 per person and the sign-up deadline is Monday\, October 28th by noon or until sold out.
URL:https://rancho-resort.com/event/halloween-dance/
LOCATION:Ballroom\, AZ
END:VEVENT
END:VCALENDAR