BEGIN:VCALENDAR
VERSION:2.0
PRODID:-//Rancho Resort - ECPv6.15.20//NONSGML v1.0//EN
CALSCALE:GREGORIAN
METHOD:PUBLISH
X-WR-CALNAME:Rancho Resort
X-ORIGINAL-URL:https://rancho-resort.com
X-WR-CALDESC:Events for Rancho Resort
REFRESH-INTERVAL;VALUE=DURATION:PT1H
X-Robots-Tag:noindex
X-PUBLISHED-TTL:PT1H
BEGIN:VTIMEZONE
TZID:America/Phoenix
BEGIN:STANDARD
TZOFFSETFROM:-0700
TZOFFSETTO:-0700
TZNAME:MST
DTSTART:20240101T000000
END:STANDARD
END:VTIMEZONE
BEGIN:VEVENT
DTSTART;TZID=America/Phoenix:20251217T110000
DTEND;TZID=America/Phoenix:20251217T120000
DTSTAMP:20260420T041454
CREATED:20250321T180214Z
LAST-MODIFIED:20250919T201019Z
UID:10000129-1765969200-1765972800@rancho-resort.com
SUMMARY:HAC/FYI
DESCRIPTION:HAC/FYI\nWednesday\, December 17th | 11:00 a.m. | Ballroom\nWant to stay current on what’s going on (or changing) within our community? Please wear your name badges. HAC email: rrhac2022@gmail.com. The guest speaker for December is representative from Community Emergency Response Team (CERT).
URL:https://rancho-resort.com/event/hac-fyi-9/
LOCATION:Ballroom\, AZ
END:VEVENT
BEGIN:VEVENT
DTSTART;TZID=America/Phoenix:20251219T170000
DTEND;TZID=America/Phoenix:20251219T190000
DTSTAMP:20260420T041454
CREATED:20240925T230616Z
LAST-MODIFIED:20250919T201733Z
UID:10000086-1766163600-1766170800@rancho-resort.com
SUMMARY:Holiday Parade of Lights followed by a Merry Hour
DESCRIPTION:Holiday Parade of Lights followed by a Merry Hour\nFriday\, December 19th | Parade: 5:00 p.m. | Merry Hour: 6:00 p.m.\nAll wheels are welcome to participate in our annual light parade. We will meet at the Clubhouse parking lot at 5:00 p.m. and depart at 5:30 p.m. The Merry Hour will begin immediately following the Parade. Light refreshments & hot chocolate will be served in the Lobby. Please bring any additional beverage of choice.
URL:https://rancho-resort.com/event/holiday-parade-of-lights-merry-hour/
LOCATION:Lobby\, AZ
END:VEVENT
BEGIN:VEVENT
DTSTART;TZID=America/Phoenix:20251231T190000
DTEND;TZID=America/Phoenix:20251231T220000
DTSTAMP:20260420T041454
CREATED:20250919T203558Z
LAST-MODIFIED:20250919T204604Z
UID:10000159-1767207600-1767218400@rancho-resort.com
SUMMARY:New Year’s Eve
DESCRIPTION:New Year’s Eve\nWednesday\, December 31st | 7:00 – 10:00 p.m. | Ballroom | $8 per person\nIt’s PROM NIGHT and it’s time for some serious dancing with the “Throwback” band. If you can’t be the prom queen\, be at least\, the dancing queen! The sign-up deadline is Wednesday\, December 24th. Please remember that there is limited space available\, and no entries will be accepted past the deadline. Don’t forget to bring your own.
URL:https://rancho-resort.com/event/new-years-eve-2/
LOCATION:Ballroom\, AZ
END:VEVENT
BEGIN:VEVENT
DTSTART;TZID=America/Phoenix:20260110T170000
DTEND;TZID=America/Phoenix:20260110T210000
DTSTAMP:20260420T041454
CREATED:20251222T181916Z
LAST-MODIFIED:20260107T185354Z
UID:10000160-1768064400-1768078800@rancho-resort.com
SUMMARY:Sock Hop\, 2026
DESCRIPTION:Saturday\, January 10th | Dinner 5:00 p.m. & Dance 6:00 – 9:00 p.m. | Ballroom | $10 per person\nEnjoy amazing music by “Sonorous” and catering (burgers & chips) by Nickle’s Diner. Registration deadline is Friday\, January 2nd at noon or until sold out.
URL:https://rancho-resort.com/event/sock-hop-2026/
LOCATION:Ballroom\, AZ
END:VEVENT
BEGIN:VEVENT
DTSTART;TZID=America/Phoenix:20260113T170000
DTEND;TZID=America/Phoenix:20260113T190000
DTSTAMP:20260420T041454
CREATED:20241219T200839Z
LAST-MODIFIED:20251222T195403Z
UID:10000111-1768323600-1768330800@rancho-resort.com
SUMMARY:Relay for Life ~ No Cook Tuesday
DESCRIPTION:Relay for Life\nTuesday\, January 13th | No Cook | 5:00 – 7:00 p.m. | $8.00 per person\nTickets and signups are from December 1st – January 8th in the office. Event includes choice of 3 soups\, salads\, rolls and dessert.
URL:https://rancho-resort.com/event/no-cook-tuesday-relay-for-life/
LOCATION:Ballroom\, AZ
END:VEVENT
BEGIN:VEVENT
DTSTART;TZID=America/Phoenix:20260120T180000
DTEND;TZID=America/Phoenix:20260120T190000
DTSTAMP:20260420T041454
CREATED:20240703T210447Z
LAST-MODIFIED:20251222T183715Z
UID:10000052-1768932000-1768935600@rancho-resort.com
SUMMARY:Rancho Resort Annual Meeting
DESCRIPTION:Tuesday\, January 20th | 6:00 -7:00 p.m. | Ballroom\nResidents will have the opportunity to share concerns and ask the Board of Directors questions. Coffee and refreshments will be provided. Sign-in begins at 5:30 p.m. Contact John Cousins with any questions at john.cousins@associaarizona.com. See you there!
URL:https://rancho-resort.com/event/hac-fyi-2/
LOCATION:Ballroom\, AZ
END:VEVENT
BEGIN:VEVENT
DTSTART;TZID=America/Phoenix:20260123T180000
DTEND;TZID=America/Phoenix:20260123T204500
DTSTAMP:20260420T041454
CREATED:20241218T212804Z
LAST-MODIFIED:20251222T184101Z
UID:10000099-1769191200-1769201100@rancho-resort.com
SUMMARY:Just Dance & Karaoke
DESCRIPTION:Just Dance & Karaoke\nFriday\, January 23rd | 6:00 – 8:45 p.m. | Ballroom\nGet ready for a night to dance and karaoke with music provided by your very own local DJ.
URL:https://rancho-resort.com/event/just-dance-karaoke-5/
LOCATION:Ballroom\, AZ
END:VEVENT
BEGIN:VEVENT
DTSTART;TZID=America/Phoenix:20260129T190000
DTEND;TZID=America/Phoenix:20260129T210000
DTSTAMP:20260420T041454
CREATED:20241218T214235Z
LAST-MODIFIED:20251222T194938Z
UID:10000107-1769713200-1769720400@rancho-resort.com
SUMMARY:Rancho Resort Variety Show
DESCRIPTION:Variety Show\nThursday\, January 29th | 7:00 p.m. | Ballroom | $2 per person\nThe show is an opportunity to view a variety of talents performed by your fellow friends & neighbors. Doors open at 6:30 p.m. Don’t miss out\, as space is limited. Buy your tickets now at the office. The show is sponsored by the Rancho Resort Music Club. The proceeds are donated to local school music programs. If you are interested in becoming a member of the Music Club\, contact Mary McMillen at 309-883-0318.
URL:https://rancho-resort.com/event/rancho-resort-variety-show/
LOCATION:Ballroom\, AZ
END:VEVENT
BEGIN:VEVENT
DTSTART;TZID=America/Phoenix:20260131T073000
DTEND;TZID=America/Phoenix:20260131T210000
DTSTAMP:20260420T041454
CREATED:20251222T184722Z
LAST-MODIFIED:20260107T190217Z
UID:10000161-1769844600-1769893200@rancho-resort.com
SUMMARY:Excursion: Renaissance Festival
DESCRIPTION:Excursion: Renaissance Festival\nSaturday\, January 31st | 7:30 a.m. Departure | $20 per person\nTravel to a re-creation of a 16th century European village! The Arizona Renaissance is a medieval amusement park featuring a 13 -stage theater\, a 30-acre circus\, arts and crafts fair\, jousting\, and a Pleasure Feast all rolled into one adventure! Walk through the gates to be transported back to a simpler\, more jovial time. Your cost per person will cover your admission fee and transportation to and from the Renaissance Festival. Any other expenses are not included. Clubhouse departure will be at 7:30 a.m. from the lobby. Space is limited so hurry and sign-up by Friday\, January 16th.
URL:https://rancho-resort.com/event/excursion-renaissance-festival/
END:VEVENT
BEGIN:VEVENT
DTSTART;TZID=America/Phoenix:20260210T180000
DTEND;TZID=America/Phoenix:20260210T200000
DTSTAMP:20260420T041454
CREATED:20251222T195540Z
LAST-MODIFIED:20251222T195540Z
UID:10000167-1770746400-1770753600@rancho-resort.com
SUMMARY:Relay for Life ~ Paint & Sip
DESCRIPTION:Relay For Life\nTuesday\, February 10th | Paint & Sip | 6:00 – 8:00 p.m. | $25 per person \nJoin us for a Paint & Sip with Barb Simcoe. PAINT and all supplies will be provided. You supply the SIP. Space will be limited. Tickets will go on sale at our January “No Cook Tuesday” on January 13th. Please make checks payable to Relay for Life.
URL:https://rancho-resort.com/event/relay-for-life-paint-sip/
LOCATION:Ballroom\, AZ
END:VEVENT
BEGIN:VEVENT
DTSTART;TZID=America/Phoenix:20260212T180000
DTEND;TZID=America/Phoenix:20260212T200000
DTSTAMP:20260420T041454
CREATED:20251222T185128Z
LAST-MODIFIED:20251222T190600Z
UID:10000162-1770919200-1770926400@rancho-resort.com
SUMMARY:Blues Concert\, 2026
DESCRIPTION:Blues Concert\nThursday\, February 12th | 6:00 p.m. | Ballroom | $8 per person\nPlease come and enjoy an evening with “Javelina Blu”. Registration deadline is Friday\, February 6th by noon or until sold out.
URL:https://rancho-resort.com/event/blues-concert-2/
LOCATION:Ballroom\, AZ
END:VEVENT
BEGIN:VEVENT
DTSTART;TZID=America/Phoenix:20260214T180000
DTEND;TZID=America/Phoenix:20260214T210000
DTSTAMP:20260420T041454
CREATED:20251222T185500Z
LAST-MODIFIED:20251222T185500Z
UID:10000163-1771092000-1771102800@rancho-resort.com
SUMMARY:Valentines Day Dance
DESCRIPTION:Valentine’s Dance\nSaturday\, February 14th | 6:00 – 9:00 p.m. | Ballroom | $8 per person\nCome and fall in love with the sound of “Chance Romance”! Registration deadline is Tuesday\, February 10th at noon or until sold out.
URL:https://rancho-resort.com/event/valentines-day-dance/
LOCATION:Ballroom\, AZ
END:VEVENT
BEGIN:VEVENT
DTSTART;TZID=America/Phoenix:20260228T170000
DTEND;TZID=America/Phoenix:20260228T210000
DTSTAMP:20260420T041454
CREATED:20251222T190252Z
LAST-MODIFIED:20251222T190252Z
UID:10000164-1772298000-1772312400@rancho-resort.com
SUMMARY:Western Hoedown\, 2026
DESCRIPTION:Western Hoedown\nSaturday\, February 28th | Dinner 5:00 p.m. & Dance 6:00 – 9:00 p.m. | Ballroom | $15 per person\nEnjoy the music with “Crossfire”. Catering by Nickel’s Diner includes pulled pork\, BBQ chicken\, beans and a side of coleslaw. Registration deadline is Friday\, February 13th at noon or until sold out.
URL:https://rancho-resort.com/event/western-hoedown-2026/
LOCATION:Ballroom\, AZ
END:VEVENT
BEGIN:VEVENT
DTSTART;TZID=America/Phoenix:20260304T170000
DTEND;TZID=America/Phoenix:20260304T190000
DTSTAMP:20260420T041454
CREATED:20251222T190848Z
LAST-MODIFIED:20251222T190848Z
UID:10000165-1772643600-1772650800@rancho-resort.com
SUMMARY:Jazz Concert\, 2026
DESCRIPTION:Jazz Concert\nWednesday\, March 4th | 5:00 p.m. | Ballroom | $8 per person\nPlease come and enjoy an evening with “Jazz with a Side of Grit”. Registration deadline is Monday\, March 2nd by noon or until sold out.
URL:https://rancho-resort.com/event/jazz-concert-2026/
LOCATION:Ballroom\, AZ
END:VEVENT
BEGIN:VEVENT
DTSTART;TZID=America/Phoenix:20260310T170000
DTEND;TZID=America/Phoenix:20260310T190000
DTSTAMP:20260420T041454
CREATED:20251222T195704Z
LAST-MODIFIED:20251222T195704Z
UID:10000168-1773162000-1773169200@rancho-resort.com
SUMMARY:Relay for Life ~ No Cook Tuesday
DESCRIPTION:Relay For Life\nTuesday\, March 10th | No Cook | 5:00 – 7:00 p.m. | $10 per person \nJoin us for a patio BBQ. Food will include hamburgers\, brats\, chips\, cookies and a drink. Tickets and signups are February 17th – March 1st in the office.
URL:https://rancho-resort.com/event/relay-for-life-no-cook-tuesday/
END:VEVENT
BEGIN:VEVENT
DTSTART;TZID=America/Phoenix:20260314T070000
DTEND;TZID=America/Phoenix:20260314T120000
DTSTAMP:20260420T041454
CREATED:20240302T140016Z
LAST-MODIFIED:20251222T191044Z
UID:10000005-1773471600-1773489600@rancho-resort.com
SUMMARY:Community Garage Sale
DESCRIPTION:Community Garage Sale\nSaturday\, March 14th | 7:00 a.m. – 12:00 p.m. | Community\nSign up at the office and collect your wooden balloons beginning Monday\, February 23rd. There will be a resident preview on Friday\, March. 13th from 4:00 – 6:00 p.m. Do not forget to pick up your community maps\non Thursday\, March 12th after 5:00 p.m.
URL:https://rancho-resort.com/event/community-garage-sale/
LOCATION:Around the Community
END:VEVENT
BEGIN:VEVENT
DTSTART;TZID=America/Phoenix:20260315T130000
DTEND;TZID=America/Phoenix:20260315T140000
DTSTAMP:20260420T041454
CREATED:20250919T202125Z
LAST-MODIFIED:20251222T183019Z
UID:10000156-1773579600-1773583200@rancho-resort.com
SUMMARY:FREE Sundae Sunday
DESCRIPTION:FREE Sundae Sunday\nSunday\, March 15th | 1:00 – 2:00 p.m. | Lobby\nJoin us in conversation\, laughter and a FREE sundae. (Sundaes are available while supplies last).
URL:https://rancho-resort.com/event/free-sundae-sunday/
LOCATION:Lobby\, AZ
END:VEVENT
BEGIN:VEVENT
DTSTART;TZID=America/Phoenix:20260317T180000
DTEND;TZID=America/Phoenix:20260317T210000
DTSTAMP:20260420T041454
CREATED:20251222T191428Z
LAST-MODIFIED:20251222T191428Z
UID:10000166-1773770400-1773781200@rancho-resort.com
SUMMARY:St. Patrick's Day Dance\, 2026
DESCRIPTION:St. Patrick’s Day Dance\nTuesday\, March 17th | 6:00 – 9:00 p.m. | Ballroom | $8 per person\nThe “paddy” won’t start until you walk in! Come join us with the sound of “Flipside”! Registration deadline is Friday\, March 13th at noon or until sold out.
URL:https://rancho-resort.com/event/st-patricks-day-dance-2026/
LOCATION:Ballroom\, AZ
END:VEVENT
BEGIN:VEVENT
DTSTART;TZID=America/Phoenix:20260318T080000
DTEND;TZID=America/Phoenix:20260318T100000
DTSTAMP:20260420T041454
CREATED:20250321T174625Z
LAST-MODIFIED:20251222T184008Z
UID:10000124-1773820800-1773828000@rancho-resort.com
SUMMARY:Coffee Social
DESCRIPTION:Coffee Social\nWednesday\, March 18th | 8:00 – 10:00 a.m. | Lobby\nFriends bring happiness into your life\, but best friends bring coffee and donuts. (Sweets available while supplies last).
URL:https://rancho-resort.com/event/coffee-social-9/
LOCATION:Lobby\, AZ
END:VEVENT
BEGIN:VEVENT
DTSTART;TZID=America/Phoenix:20260320T173000
DTEND;TZID=America/Phoenix:20260320T210000
DTSTAMP:20260420T041454
CREATED:20241218T211259Z
LAST-MODIFIED:20251222T182629Z
UID:10000095-1774027800-1774040400@rancho-resort.com
SUMMARY:Friday Night Movie - “Mission Impossible”
DESCRIPTION:Friday Night Movie\nFriday\, March 20th | 5:30 p.m. | Ballroom *earlier time\nThe March movie is “Mission Impossible” (Rated PG13). Please note the earlier start time. FREE popcorn will be provided while supplies last. Residents are encouraged to provide their own personal beverage. 
URL:https://rancho-resort.com/event/friday-night-movie-the-fabulous-four/
LOCATION:Ballroom\, AZ
END:VEVENT
BEGIN:VEVENT
DTSTART;TZID=America/Phoenix:20260321T110000
DTEND;TZID=America/Phoenix:20260321T220000
DTSTAMP:20260420T041454
CREATED:20240315T204438Z
LAST-MODIFIED:20251222T191700Z
UID:10000040-1774090800-1774130400@rancho-resort.com
SUMMARY:Rancho Resort Local Experience - 4th Avenue Street Fair
DESCRIPTION:Rancho Resort Local Experience\nSaturday\, March 21st | 11:00 a.m. – 10:00 p.m. | 4th Avenue Street Fair\nRancho Resort invites you to a local experience at the infamous “4th Avenue Street Fair”. This family-friendly event promotes original\, hand-made art\, with 350+ artists from around the world. This day will be filled with live entertainment\, street performers\, 40+ food vendors\, beer\, and local 4th Avenue merchants. Admission is free of charge. See you all there!
URL:https://rancho-resort.com/event/rancho-resort-local-experience/
END:VEVENT
BEGIN:VEVENT
DTSTART;TZID=America/Phoenix:20260324T160000
DTEND;TZID=America/Phoenix:20260324T180000
DTSTAMP:20260420T041454
CREATED:20250321T185959Z
LAST-MODIFIED:20251222T183538Z
UID:10000134-1774368000-1774375200@rancho-resort.com
SUMMARY:Happy Hour
DESCRIPTION:Happy Hour\nTuesday\, March 24th | 4:00 – 6:00 p.m. | Lobby\nHappy hour is the best two hours of the day! Don’t forget to bring an appetizer to share and your favorite drink!
URL:https://rancho-resort.com/event/happy-hour-3/
LOCATION:Lobby\, AZ
END:VEVENT
BEGIN:VEVENT
DTSTART;TZID=America/Phoenix:20260328T100000
DTEND;TZID=America/Phoenix:20260328T170000
DTSTAMP:20260420T041454
CREATED:20241218T214612Z
LAST-MODIFIED:20251222T200145Z
UID:10000109-1774692000-1774717200@rancho-resort.com
SUMMARY:Relay for Life
DESCRIPTION:Relay For Life\nSaturday\, March 28th | 10:00 a.m. – 5:00 p.m. | Rancho Resort Greens \nThis year’s theme is “Wish Upon a Cure.” Please join us in walking around our greens to celebrate cancer survivors\, remember your loved ones and to raise money to help fight cancer. Additional information to follow.
URL:https://rancho-resort.com/event/relay-for-life/
LOCATION:The Greens
END:VEVENT
BEGIN:VEVENT
DTSTART;TZID=America/Phoenix:20260331T180000
DTEND;TZID=America/Phoenix:20260331T200000
DTSTAMP:20260420T041455
CREATED:20250321T190246Z
LAST-MODIFIED:20251222T185915Z
UID:10000137-1774980000-1774987200@rancho-resort.com
SUMMARY:Women & Wine
DESCRIPTION:Women & Wine\nTuesday\, March 31st | 6:00 – 8:00 p.m. | Ballroom\nInvite your girlfriends\, bring your bottle of wine\, snack\, and your favorite glass.
URL:https://rancho-resort.com/event/women-wine-3/
LOCATION:Ballroom\, AZ
END:VEVENT
BEGIN:VEVENT
DTSTART;TZID=America/Phoenix:20260403T173000
DTEND;TZID=America/Phoenix:20260403T183000
DTSTAMP:20260420T041455
CREATED:20250321T175315Z
LAST-MODIFIED:20260313T224004Z
UID:10000126-1775237400-1775241000@rancho-resort.com
SUMMARY:Resident Get Together
DESCRIPTION:Resident Get Together \nFriday\, April 3rd | 5:30 p.m. | Ballroom \nBring a potluck dish (enough to share with a minimum of 4-6 people) and a serving utensil. Don’t forget to bring your own beverages.
URL:https://rancho-resort.com/event/resident-get-together-9/
LOCATION:Ballroom\, AZ
END:VEVENT
BEGIN:VEVENT
DTSTART;TZID=America/Phoenix:20260404T090000
DTEND;TZID=America/Phoenix:20260404T090000
DTSTAMP:20260420T041455
CREATED:20240223T190929Z
LAST-MODIFIED:20260313T225013Z
UID:10000024-1775293200-1775293200@rancho-resort.com
SUMMARY:Easter Egg Hunt
DESCRIPTION:Easter Egg Hunt \nSaturday\, April 4th | 9:00 a.m. | Greens \nYou’re invited to an Egg Hunt! Join us for a small token\, in celebration of Spring. (Eggs available while supplies last).
URL:https://rancho-resort.com/event/spring-egg-hunt/
LOCATION:The Greens
END:VEVENT
BEGIN:VEVENT
DTSTART;TZID=America/Phoenix:20260409T110000
DTEND;TZID=America/Phoenix:20260409T120000
DTSTAMP:20260420T041455
CREATED:20250321T191229Z
LAST-MODIFIED:20260313T224646Z
UID:10000141-1775732400-1775736000@rancho-resort.com
SUMMARY:TRC Roofing Presentation
DESCRIPTION:TRC Roofing Presentation \nThursday\, April 9th | 11:00 a.m. | Ballroom \nGet to know your roof at the Tile & Flat roof maintenance presentation. Lunch will be provided. Please sign up at the office by Wednesday\, April 1st by noon. \n 
URL:https://rancho-resort.com/event/skymed-presentation-pizza-wine-beer/
LOCATION:Ballroom\, AZ
END:VEVENT
BEGIN:VEVENT
DTSTART;TZID=America/Phoenix:20260409T180000
DTEND;TZID=America/Phoenix:20260409T200000
DTSTAMP:20260420T041455
CREATED:20250206T232942Z
LAST-MODIFIED:20260316T194850Z
UID:10000120-1775757600-1775764800@rancho-resort.com
SUMMARY:Saguaro Club – Trivia Night
DESCRIPTION:Saguaro Club – Trivia Night\nThursday\, April 9th | 6:00 – 8:00 p.m. | Club Rancho Sahuarita  \n 
URL:https://rancho-resort.com/event/saguaro-club-explore-az-kitt-peak/
LOCATION:Rancho Sahuarita\, 15455 S. Camino Lago Azul\, Sahuarita\, AZ\, 85629\, United States
END:VEVENT
BEGIN:VEVENT
DTSTART;TZID=America/Phoenix:20260411T180000
DTEND;TZID=America/Phoenix:20260411T210000
DTSTAMP:20260420T041455
CREATED:20260313T230236Z
LAST-MODIFIED:20260407T202813Z
UID:10000169-1775930400-1775941200@rancho-resort.com
SUMMARY:80's Retro Party - Sold Out
DESCRIPTION:80’s Retro Party\nSaturday\, April 11th | 6:00–9:00 p.m. | Ballroom | $8 per person \nJoin us for a totally tubular night to remember. Come ready to dance as “Ones All Band” amazes us with their talent! The deadline is Wednesday\, April 8th at noon or until sold out on date of deadline\, (whichever comes first). Please remember that there is limited space available\, and no entries will be accepted past the deadline.
URL:https://rancho-resort.com/event/80s-retro-party/
LOCATION:Ballroom\, AZ
END:VEVENT
BEGIN:VEVENT
DTSTART;TZID=America/Phoenix:20260415T080000
DTEND;TZID=America/Phoenix:20260415T100000
DTSTAMP:20260420T041455
CREATED:20250321T174529Z
LAST-MODIFIED:20260313T224841Z
UID:10000123-1776240000-1776247200@rancho-resort.com
SUMMARY:Coffee Social
DESCRIPTION:Coffee Social \nWednesday\, April 15th | 8:00-10:00 a.m. | Lobby \nFriends bring happiness into your life\, but best friends bring coffee and donuts. (Available while supplies last).
URL:https://rancho-resort.com/event/coffee-social-8/
LOCATION:Lobby\, AZ
END:VEVENT
END:VCALENDAR