BEGIN:VCALENDAR
VERSION:2.0
PRODID:-//Rancho Resort - ECPv6.15.20//NONSGML v1.0//EN
CALSCALE:GREGORIAN
METHOD:PUBLISH
X-ORIGINAL-URL:https://rancho-resort.com
X-WR-CALDESC:Events for Rancho Resort
REFRESH-INTERVAL;VALUE=DURATION:PT1H
X-Robots-Tag:noindex
X-PUBLISHED-TTL:PT1H
BEGIN:VTIMEZONE
TZID:America/Phoenix
BEGIN:STANDARD
TZOFFSETFROM:-0700
TZOFFSETTO:-0700
TZNAME:MST
DTSTART:20250101T000000
END:STANDARD
END:VTIMEZONE
BEGIN:VEVENT
DTSTART;TZID=America/Phoenix:20260421T160000
DTEND;TZID=America/Phoenix:20260421T180000
DTSTAMP:20260420T044831
CREATED:20250321T185920Z
LAST-MODIFIED:20260313T225416Z
UID:10000133-1776787200-1776794400@rancho-resort.com
SUMMARY:Happy Hour
DESCRIPTION:Happy Hour \nTuesday\, April 21st | 4:00–6:00 p.m. | Lobby \nHappy hour is the best two hours of the day! Don’t forget to bring an appetizer to share and your favorite drink!
URL:https://rancho-resort.com/event/happy-hour-2/
LOCATION:Lobby\, AZ
END:VEVENT
END:VCALENDAR